
BEGIN:VCALENDAR
VERSION:2.0
PRODID:-//Digital Content Next - ECPv6.15.18//NONSGML v1.0//EN
CALSCALE:GREGORIAN
METHOD:PUBLISH
X-ORIGINAL-URL:https://digitalcontentnext.org
X-WR-CALDESC:Events for Digital Content Next
REFRESH-INTERVAL;VALUE=DURATION:PT1H
X-Robots-Tag:noindex
X-PUBLISHED-TTL:PT1H
BEGIN:VTIMEZONE
TZID:America/New_York
BEGIN:DAYLIGHT
TZOFFSETFROM:-0500
TZOFFSETTO:-0400
TZNAME:EDT
DTSTART:20140309T070000
END:DAYLIGHT
BEGIN:STANDARD
TZOFFSETFROM:-0400
TZOFFSETTO:-0500
TZNAME:EST
DTSTART:20141102T060000
END:STANDARD
BEGIN:DAYLIGHT
TZOFFSETFROM:-0500
TZOFFSETTO:-0400
TZNAME:EDT
DTSTART:20150308T070000
END:DAYLIGHT
BEGIN:STANDARD
TZOFFSETFROM:-0400
TZOFFSETTO:-0500
TZNAME:EST
DTSTART:20151101T060000
END:STANDARD
BEGIN:DAYLIGHT
TZOFFSETFROM:-0500
TZOFFSETTO:-0400
TZNAME:EDT
DTSTART:20160313T070000
END:DAYLIGHT
BEGIN:STANDARD
TZOFFSETFROM:-0400
TZOFFSETTO:-0500
TZNAME:EST
DTSTART:20161106T060000
END:STANDARD
END:VTIMEZONE
BEGIN:VEVENT
DTSTART;TZID=America/New_York:20150908T080000
DTEND;TZID=America/New_York:20150910T121000
DTSTAMP:20260422T212037
CREATED:20150420T131237Z
LAST-MODIFIED:20150706T205201Z
UID:5383-1441699200-1441887000@digitalcontentnext.org
SUMMARY:Digital Media Strategies USA
DESCRIPTION:Millennium Broadway Hotel – Conference Center \n145 West 44th Street\, NYC\, 10036 \n(212) 768-4400
URL:http://digital-media-strategies-usa.com/#new_tab
LOCATION:Millenium Broadway Hotel\, 145 West 44th Street\, New York\, NY\, 10036\, United States
CATEGORIES:DCN Partner Events
END:VEVENT
BEGIN:VEVENT
DTSTART;VALUE=DATE:20150916
DTEND;VALUE=DATE:20150917
DTSTAMP:20260422T212037
CREATED:20150601T152204Z
LAST-MODIFIED:20150706T205323Z
UID:6214-1442361600-1442447999@digitalcontentnext.org
SUMMARY:FT Future Of Marketing Summit 2015
DESCRIPTION:10 on the Park \n60 Columbus Circle\, 10th Floor \nNYC
URL:https://live.ft.com/Events/2015/FT-Future-of-Marketing-Summit-2015#new_tab
CATEGORIES:DCN Partner Events
END:VEVENT
BEGIN:VEVENT
DTSTART;TZID=America/New_York:20150916T130000
DTEND;TZID=America/New_York:20150916T140000
DTSTAMP:20260422T212037
CREATED:20150916T170010Z
LAST-MODIFIED:20150916T191339Z
UID:7517-1442408400-1442412000@digitalcontentnext.org
SUMMARY:Legal & Legislative Committee Call
DESCRIPTION:If you are a DCN publisher or supporter member\, please be sure to log in or register to access a PDF of the webinar presentation. \n\nLegal & Legislative Committee Calls are webinars summarizing and commenting on important policy\, law\, and legislative news surrounding digital content.  Only Digital Content Next Publisher members may attend.  If you are a DCN Publisher\, please contact members@digitalcontentnext.org for information on how to register. \nMeeting Agenda \n\nPreview of White Ops Survey of Non-Human Traffic on DCN Member Sites\nDiscussion re: Ad Blocking Software
URL:https://digitalcontentnext.org/event/legal-legislative-committee-call-2015-09-16/
CATEGORIES:DCN Events
END:VEVENT
BEGIN:VEVENT
DTSTART;TZID=America/New_York:20150921T180000
DTEND;TZID=America/New_York:20150921T210000
DTSTAMP:20260422T212037
CREATED:20150130T164330Z
LAST-MODIFIED:20150713T175747Z
UID:4190-1442858400-1442869200@digitalcontentnext.org
SUMMARY:DCN Board Dinner - September 2015
DESCRIPTION:
URL:https://digitalcontentnext.org/event/dcn-board-dinner-2/
LOCATION:Unnamed Venue\, New York\, NY\, United States
CATEGORIES:DCN Events
END:VEVENT
BEGIN:VEVENT
DTSTART;TZID=America/New_York:20150922T090000
DTEND;TZID=America/New_York:20150922T130000
DTSTAMP:20260422T212037
CREATED:20150130T164435Z
LAST-MODIFIED:20150713T175738Z
UID:4192-1442912400-1442926800@digitalcontentnext.org
SUMMARY:DCN Board Meeting - September 2015
DESCRIPTION:
URL:https://digitalcontentnext.org/event/dcn-board-meeting-2/
LOCATION:Unnamed Venue\, New York\, NY\, United States
CATEGORIES:DCN Events
END:VEVENT
END:VCALENDAR