
BEGIN:VCALENDAR
VERSION:2.0
PRODID:-//Digital Content Next - ECPv6.15.18//NONSGML v1.0//EN
CALSCALE:GREGORIAN
METHOD:PUBLISH
X-ORIGINAL-URL:https://digitalcontentnext.org
X-WR-CALDESC:Events for Digital Content Next
REFRESH-INTERVAL;VALUE=DURATION:PT1H
X-Robots-Tag:noindex
X-PUBLISHED-TTL:PT1H
BEGIN:VTIMEZONE
TZID:America/New_York
BEGIN:DAYLIGHT
TZOFFSETFROM:-0500
TZOFFSETTO:-0400
TZNAME:EDT
DTSTART:20150308T070000
END:DAYLIGHT
BEGIN:STANDARD
TZOFFSETFROM:-0400
TZOFFSETTO:-0500
TZNAME:EST
DTSTART:20151101T060000
END:STANDARD
BEGIN:DAYLIGHT
TZOFFSETFROM:-0500
TZOFFSETTO:-0400
TZNAME:EDT
DTSTART:20160313T070000
END:DAYLIGHT
BEGIN:STANDARD
TZOFFSETFROM:-0400
TZOFFSETTO:-0500
TZNAME:EST
DTSTART:20161106T060000
END:STANDARD
BEGIN:DAYLIGHT
TZOFFSETFROM:-0500
TZOFFSETTO:-0400
TZNAME:EDT
DTSTART:20170312T070000
END:DAYLIGHT
BEGIN:STANDARD
TZOFFSETFROM:-0400
TZOFFSETTO:-0500
TZNAME:EST
DTSTART:20171105T060000
END:STANDARD
END:VTIMEZONE
BEGIN:VEVENT
DTSTART;TZID=America/New_York:20161130T120000
DTEND;TZID=America/New_York:20161130T170000
DTSTAMP:20260422T231306
CREATED:20160314T211018Z
LAST-MODIFIED:20180420T145101Z
UID:9749-1480507200-1480525200@digitalcontentnext.org
SUMMARY:Power of Brands 2016
DESCRIPTION:If you are a DCN publisher member\, please be sure to log in or register to access PDFs of approved presentations .\n \n\nThis half-day event provides DCN members with the opportunity to learn from DCN colleagues and marketers and leaders from outside our industry about leveraging the power of our trusted brands to extend beyond traditional advertising revenue. \nTo see the full agenda and speaker list click here.
URL:https://digitalcontentnext.org/event/power-of-brands-2016/
LOCATION:10 on the Park\, 60 West 60th Street\, Tower Room\, New York\, NY\, 10019\, United States
CATEGORIES:DCN Events
END:VEVENT
END:VCALENDAR