
BEGIN:VCALENDAR
VERSION:2.0
PRODID:-//Digital Content Next - ECPv6.15.18//NONSGML v1.0//EN
CALSCALE:GREGORIAN
METHOD:PUBLISH
X-WR-CALNAME:Digital Content Next
X-ORIGINAL-URL:https://digitalcontentnext.org
X-WR-CALDESC:Events for Digital Content Next
REFRESH-INTERVAL;VALUE=DURATION:PT1H
X-Robots-Tag:noindex
X-PUBLISHED-TTL:PT1H
BEGIN:VTIMEZONE
TZID:America/New_York
BEGIN:DAYLIGHT
TZOFFSETFROM:-0500
TZOFFSETTO:-0400
TZNAME:EDT
DTSTART:20140309T070000
END:DAYLIGHT
BEGIN:STANDARD
TZOFFSETFROM:-0400
TZOFFSETTO:-0500
TZNAME:EST
DTSTART:20141102T060000
END:STANDARD
BEGIN:DAYLIGHT
TZOFFSETFROM:-0500
TZOFFSETTO:-0400
TZNAME:EDT
DTSTART:20150308T070000
END:DAYLIGHT
BEGIN:STANDARD
TZOFFSETFROM:-0400
TZOFFSETTO:-0500
TZNAME:EST
DTSTART:20151101T060000
END:STANDARD
BEGIN:DAYLIGHT
TZOFFSETFROM:-0500
TZOFFSETTO:-0400
TZNAME:EDT
DTSTART:20160313T070000
END:DAYLIGHT
BEGIN:STANDARD
TZOFFSETFROM:-0400
TZOFFSETTO:-0500
TZNAME:EST
DTSTART:20161106T060000
END:STANDARD
END:VTIMEZONE
BEGIN:VEVENT
DTSTART;VALUE=DATE:20151112
DTEND;VALUE=DATE:20151113
DTSTAMP:20260422T182133
CREATED:20151008T154548Z
LAST-MODIFIED:20151204T160824Z
UID:4194-1447286400-1447372799@digitalcontentnext.org
SUMMARY:DCN Mobile Day 2015
DESCRIPTION:As a member benefit\, DCN publisher members have access to PDF’s of the speaker sessions (from speakers who gave permission). If you are a DCN publisher member\, please be sure to log in or register to view downloadable presentations.
URL:https://digitalcontentnext.org/event/dcn-mobile-day/
LOCATION:Time Inc.\, 1271 Avenue of the Americas\, New York\, NY\, 10020\, United States
CATEGORIES:DCN Events
END:VEVENT
END:VCALENDAR