
BEGIN:VCALENDAR
VERSION:2.0
PRODID:-//Digital Content Next - ECPv6.15.18//NONSGML v1.0//EN
CALSCALE:GREGORIAN
METHOD:PUBLISH
X-WR-CALNAME:Digital Content Next
X-ORIGINAL-URL:https://digitalcontentnext.org
X-WR-CALDESC:Events for Digital Content Next
REFRESH-INTERVAL;VALUE=DURATION:PT1H
X-Robots-Tag:noindex
X-PUBLISHED-TTL:PT1H
BEGIN:VTIMEZONE
TZID:America/New_York
BEGIN:DAYLIGHT
TZOFFSETFROM:-0500
TZOFFSETTO:-0400
TZNAME:EDT
DTSTART:20140309T070000
END:DAYLIGHT
BEGIN:STANDARD
TZOFFSETFROM:-0400
TZOFFSETTO:-0500
TZNAME:EST
DTSTART:20141102T060000
END:STANDARD
BEGIN:DAYLIGHT
TZOFFSETFROM:-0500
TZOFFSETTO:-0400
TZNAME:EDT
DTSTART:20150308T070000
END:DAYLIGHT
BEGIN:STANDARD
TZOFFSETFROM:-0400
TZOFFSETTO:-0500
TZNAME:EST
DTSTART:20151101T060000
END:STANDARD
BEGIN:DAYLIGHT
TZOFFSETFROM:-0500
TZOFFSETTO:-0400
TZNAME:EDT
DTSTART:20160313T070000
END:DAYLIGHT
BEGIN:STANDARD
TZOFFSETFROM:-0400
TZOFFSETTO:-0500
TZNAME:EST
DTSTART:20161106T060000
END:STANDARD
END:VTIMEZONE
BEGIN:VEVENT
DTSTART;TZID=America/New_York:20150402T090000
DTEND;TZID=America/New_York:20150402T170000
DTSTAMP:20260422T180646
CREATED:20150130T163733Z
LAST-MODIFIED:20150722T140914Z
UID:4182-1427965200-1427994000@digitalcontentnext.org
SUMMARY:DCN Tech Day 2015
DESCRIPTION:DCN Tech Day 2015 took place April 2\, 2015 at the Time Inc. Building in New York\, NY.  This annual\, member’s-only event is designed for senior technology executives from DCN member companies. \nTech Day 2015 featured presentations from DCN members and industry guests on viewability\, ad-blocking\, fraud and security\, encouraging diversity in tech teams and other hot tech topics. The agenda can be found here: Agenda. \nAs a member benefit\, DCN publisher members have access to PDF’s of the speaker sessions (from speakers who gave permission).  If you are a DCN publisher member\, please be sure to log in or register to view downloadable presentations.
URL:https://digitalcontentnext.org/event/dcn-tech-day/
LOCATION:Time\, Inc.\, 1271 Avenue of the Americas\, 8th Floor Auditorium\, New York\, NY\, United States
CATEGORIES:DCN Events
END:VEVENT
END:VCALENDAR