
BEGIN:VCALENDAR
VERSION:2.0
PRODID:-//Digital Content Next - ECPv5.8.1//NONSGML v1.0//EN
CALSCALE:GREGORIAN
METHOD:PUBLISH
X-WR-CALNAME:Digital Content Next
X-ORIGINAL-URL:https://digitalcontentnext.org
X-WR-CALDESC:Events for Digital Content Next
BEGIN:VTIMEZONE
TZID:America/New_York
BEGIN:DAYLIGHT
TZOFFSETFROM:-0500
TZOFFSETTO:-0400
TZNAME:EDT
DTSTART:20210314T070000
END:DAYLIGHT
BEGIN:STANDARD
TZOFFSETFROM:-0400
TZOFFSETTO:-0500
TZNAME:EST
DTSTART:20211107T060000
END:STANDARD
END:VTIMEZONE
BEGIN:VEVENT
DTSTART;TZID=America/New_York:20210429T120000
DTEND;TZID=America/New_York:20210429T124500
DTSTAMP:20210913T051554
CREATED:20201210T210601Z
LAST-MODIFIED:20210429T183707Z
UID:29494-1619697600-1619700300@digitalcontentnext.org
SUMMARY:The Next Conversation: Affiliate Revenue
DESCRIPTION:A DCN members-only Zoom video event designed to dig deeply into how DCN’s premium publisher members are managing their affiliate revenue businesses\, with particular focus on the impact of COVID-19.
URL:https://digitalcontentnext.org/event/the-next-conversation-affiliate-revenue-2021/
CATEGORIES:DCN Events
ATTACH;FMTTYPE=image/jpeg:https://digitalcontentnext.org/wp-content/uploads/2020/12/affiliate-revenue-featured-image.jpg
END:VEVENT
END:VCALENDAR