
BEGIN:VCALENDAR
VERSION:2.0
PRODID:-//Digital Content Next - ECPv6.15.18//NONSGML v1.0//EN
CALSCALE:GREGORIAN
METHOD:PUBLISH
X-WR-CALNAME:Digital Content Next
X-ORIGINAL-URL:https://digitalcontentnext.org
X-WR-CALDESC:Events for Digital Content Next
REFRESH-INTERVAL;VALUE=DURATION:PT1H
X-Robots-Tag:noindex
X-PUBLISHED-TTL:PT1H
BEGIN:VTIMEZONE
TZID:America/New_York
BEGIN:DAYLIGHT
TZOFFSETFROM:-0500
TZOFFSETTO:-0400
TZNAME:EDT
DTSTART:20170312T070000
END:DAYLIGHT
BEGIN:STANDARD
TZOFFSETFROM:-0400
TZOFFSETTO:-0500
TZNAME:EST
DTSTART:20171105T060000
END:STANDARD
BEGIN:DAYLIGHT
TZOFFSETFROM:-0500
TZOFFSETTO:-0400
TZNAME:EDT
DTSTART:20180311T070000
END:DAYLIGHT
BEGIN:STANDARD
TZOFFSETFROM:-0400
TZOFFSETTO:-0500
TZNAME:EST
DTSTART:20181104T060000
END:STANDARD
BEGIN:DAYLIGHT
TZOFFSETFROM:-0500
TZOFFSETTO:-0400
TZNAME:EDT
DTSTART:20190310T070000
END:DAYLIGHT
BEGIN:STANDARD
TZOFFSETFROM:-0400
TZOFFSETTO:-0500
TZNAME:EST
DTSTART:20191103T060000
END:STANDARD
END:VTIMEZONE
BEGIN:VEVENT
DTSTART;TZID=America/New_York:20180403T150000
DTEND;TZID=America/New_York:20180403T163000
DTSTAMP:20260422T180727
CREATED:20180322T142505Z
LAST-MODIFIED:20180322T142507Z
UID:18481-1522767600-1522773000@digitalcontentnext.org
SUMMARY:Solutions for Publishers Complying with GDPR
DESCRIPTION:Only Digital Content Next Publisher members may attend \nOn this webinar\, we will hear from companies and organizations offering GDPR compliance solutions for publishers. We have confirmed the participation of TrustArc\, MetaX\, OneTrust\, PageFair\, PrivacyCheq and DigiTrust. Please feel free to forward to others in your organization that may be interested.
URL:https://digitalcontentnext.org/event/solutions-publishers-complying-gdpr/
CATEGORIES:DCN Events
END:VEVENT
BEGIN:VEVENT
DTSTART;TZID=America/New_York:20180410T150000
DTEND;TZID=America/New_York:20180410T160000
DTSTAMP:20260422T180727
CREATED:20180322T141908Z
LAST-MODIFIED:20180419T150120Z
UID:18475-1523372400-1523376000@digitalcontentnext.org
SUMMARY:Legal and Legislative Committee Call
DESCRIPTION:If you are a DCN publisher member\, please be sure to log in or register to access a PDF of the presentation.  Approved presentations appear below the speaker’s headshot. \n\nLegal and Legislative Committee Calls are webinars summarizing and commenting on important policy\, law\, and legislative news surrounding digital content.  Only Digital Content Next Publisher members may attend. \nMeeting Agenda \n\nReview Legal Analysis of Google’s GDPR Terms
URL:https://digitalcontentnext.org/event/legal-legislative-committee-call-2018-04-10/
CATEGORIES:DCN Events
END:VEVENT
BEGIN:VEVENT
DTSTART;VALUE=DATE:20180426
DTEND;VALUE=DATE:20180427
DTSTAMP:20260422T180727
CREATED:20180111T191813Z
LAST-MODIFIED:20180501T165303Z
UID:17547-1524700800-1524787199@digitalcontentnext.org
SUMMARY:DCN Content Everywhere 2018
DESCRIPTION:If you are a DCN publisher member\, please be sure to log in or register to access PDFs of the presentations. \n\nDCN’s Content Everywhere is a free event for executives from DCN publisher companies. The unique members-only atmosphere allows for open conversations and information sharing about the critical issues facing digital content companies today and in the future. \nTo see the full agenda and speaker list click here. \nSponsored by:
URL:https://digitalcontentnext.org/event/dcn-content-everywhere-2018/
CATEGORIES:DCN Events
ATTACH;FMTTYPE=image/png:https://digitalcontentnext.org/wp-content/uploads/2017/04/DCN-Content-Everywhere-2017-Header-Image.png
END:VEVENT
END:VCALENDAR