
BEGIN:VCALENDAR
VERSION:2.0
PRODID:-//Digital Content Next - ECPv6.15.18//NONSGML v1.0//EN
CALSCALE:GREGORIAN
METHOD:PUBLISH
X-WR-CALNAME:Digital Content Next
X-ORIGINAL-URL:https://digitalcontentnext.org
X-WR-CALDESC:Events for Digital Content Next
REFRESH-INTERVAL;VALUE=DURATION:PT1H
X-Robots-Tag:noindex
X-PUBLISHED-TTL:PT1H
BEGIN:VTIMEZONE
TZID:America/New_York
BEGIN:DAYLIGHT
TZOFFSETFROM:-0500
TZOFFSETTO:-0400
TZNAME:EDT
DTSTART:20170312T070000
END:DAYLIGHT
BEGIN:STANDARD
TZOFFSETFROM:-0400
TZOFFSETTO:-0500
TZNAME:EST
DTSTART:20171105T060000
END:STANDARD
BEGIN:DAYLIGHT
TZOFFSETFROM:-0500
TZOFFSETTO:-0400
TZNAME:EDT
DTSTART:20180311T070000
END:DAYLIGHT
BEGIN:STANDARD
TZOFFSETFROM:-0400
TZOFFSETTO:-0500
TZNAME:EST
DTSTART:20181104T060000
END:STANDARD
BEGIN:DAYLIGHT
TZOFFSETFROM:-0500
TZOFFSETTO:-0400
TZNAME:EDT
DTSTART:20190310T070000
END:DAYLIGHT
BEGIN:STANDARD
TZOFFSETFROM:-0400
TZOFFSETTO:-0500
TZNAME:EST
DTSTART:20191103T060000
END:STANDARD
END:VTIMEZONE
BEGIN:VEVENT
DTSTART;TZID=America/New_York:20180313T150000
DTEND;TZID=America/New_York:20180313T160000
DTSTAMP:20260422T180836
CREATED:20180216T215413Z
LAST-MODIFIED:20180313T201210Z
UID:18010-1520953200-1520956800@digitalcontentnext.org
SUMMARY:Legal and Legislative Committee Call
DESCRIPTION:If you are a DCN publisher member\, please be sure to log in or register to access a PDF of the presentation.  Approved presentations appear below the speaker’s headshot. \n\nLegal and Legislative Committee Calls are webinars summarizing and commenting on important policy\, law\, and legislative news surrounding digital content.  Only Digital Content Next Publisher members may attend. \nMeeting Agenda \n\nSpecial Guest: Laura Sullivan\, Senior Attorney\, Division of Advertising Practices\, FTC\, will discuss the FTC’s recently released guidance regarding native advertising disclosures.\nDiscussion re Legislation to Create Anti Trust Safe Harbor for News Organizations
URL:https://digitalcontentnext.org/event/legal-legislative-committee-call-2018-03-13/
CATEGORIES:DCN Events
END:VEVENT
BEGIN:VEVENT
DTSTART;TZID=America/New_York:20180329T150000
DTEND;TZID=America/New_York:20180329T163000
DTSTAMP:20260422T180836
CREATED:20180322T142345Z
LAST-MODIFIED:20180322T142346Z
UID:18478-1522335600-1522341000@digitalcontentnext.org
SUMMARY:GDPR Challenges for Publishers
DESCRIPTION:Only Digital Content Next Publisher members may attend \nOn this webinar\, we will conduct a members-only discussion of 7 key questions/challenges facing publishers regarding compliance with the EU’s General Data Protection Regulation (GDPR). By separate email\, we will circulate the 7 questions that will be discussed. In that email\, members of the Legal and Legislative Committee will be invited to participate in a confidential survey\, the results of which will be disclosed on the webinar. Specific companies and names will be removed from the results of the survey and will not be shared publicly. Please feel free to forward this invitation to others in your organization that may be interested.
URL:https://digitalcontentnext.org/event/gdpr-challenges-for-publishers/
CATEGORIES:DCN Events
END:VEVENT
END:VCALENDAR