
BEGIN:VCALENDAR
VERSION:2.0
PRODID:-//Digital Content Next - ECPv6.15.18//NONSGML v1.0//EN
CALSCALE:GREGORIAN
METHOD:PUBLISH
X-WR-CALNAME:Digital Content Next
X-ORIGINAL-URL:https://digitalcontentnext.org
X-WR-CALDESC:Events for Digital Content Next
REFRESH-INTERVAL;VALUE=DURATION:PT1H
X-Robots-Tag:noindex
X-PUBLISHED-TTL:PT1H
BEGIN:VTIMEZONE
TZID:America/New_York
BEGIN:DAYLIGHT
TZOFFSETFROM:-0500
TZOFFSETTO:-0400
TZNAME:EDT
DTSTART:20170312T070000
END:DAYLIGHT
BEGIN:STANDARD
TZOFFSETFROM:-0400
TZOFFSETTO:-0500
TZNAME:EST
DTSTART:20171105T060000
END:STANDARD
BEGIN:DAYLIGHT
TZOFFSETFROM:-0500
TZOFFSETTO:-0400
TZNAME:EDT
DTSTART:20180311T070000
END:DAYLIGHT
BEGIN:STANDARD
TZOFFSETFROM:-0400
TZOFFSETTO:-0500
TZNAME:EST
DTSTART:20181104T060000
END:STANDARD
BEGIN:DAYLIGHT
TZOFFSETFROM:-0500
TZOFFSETTO:-0400
TZNAME:EDT
DTSTART:20190310T070000
END:DAYLIGHT
BEGIN:STANDARD
TZOFFSETFROM:-0400
TZOFFSETTO:-0500
TZNAME:EST
DTSTART:20191103T060000
END:STANDARD
END:VTIMEZONE
BEGIN:VEVENT
DTSTART;VALUE=DATE:20180207
DTEND;VALUE=DATE:20180210
DTSTAMP:20260422T181053
CREATED:20170523T204634Z
LAST-MODIFIED:20180405T181340Z
UID:14991-1517961600-1518220799@digitalcontentnext.org
SUMMARY:DCN Next: Summit 2018
DESCRIPTION:At the 2018 DCN Next: Summit\, our members gathered to hear from leaders in the digital media business and to network and learn from each other. \n  \nIf you are a DCN Publisher member\, be sure to log in or register for access to presentations and videos.  Links appear below presenter headshots.
URL:https://digitalcontentnext.org/event/dcn-next-summit-2018/
CATEGORIES:DCN Events
ATTACH;FMTTYPE=image/png:https://digitalcontentnext.org/wp-content/uploads/2017/05/DCN-Next-Summit-2018-Header.png
END:VEVENT
END:VCALENDAR