
BEGIN:VCALENDAR
VERSION:2.0
PRODID:-//Digital Content Next - ECPv6.15.18//NONSGML v1.0//EN
CALSCALE:GREGORIAN
METHOD:PUBLISH
X-ORIGINAL-URL:https://digitalcontentnext.org
X-WR-CALDESC:Events for Digital Content Next
REFRESH-INTERVAL;VALUE=DURATION:PT1H
X-Robots-Tag:noindex
X-PUBLISHED-TTL:PT1H
BEGIN:VTIMEZONE
TZID:America/New_York
BEGIN:DAYLIGHT
TZOFFSETFROM:-0500
TZOFFSETTO:-0400
TZNAME:EDT
DTSTART:20160313T070000
END:DAYLIGHT
BEGIN:STANDARD
TZOFFSETFROM:-0400
TZOFFSETTO:-0500
TZNAME:EST
DTSTART:20161106T060000
END:STANDARD
BEGIN:DAYLIGHT
TZOFFSETFROM:-0500
TZOFFSETTO:-0400
TZNAME:EDT
DTSTART:20170312T070000
END:DAYLIGHT
BEGIN:STANDARD
TZOFFSETFROM:-0400
TZOFFSETTO:-0500
TZNAME:EST
DTSTART:20171105T060000
END:STANDARD
BEGIN:DAYLIGHT
TZOFFSETFROM:-0500
TZOFFSETTO:-0400
TZNAME:EDT
DTSTART:20180311T070000
END:DAYLIGHT
BEGIN:STANDARD
TZOFFSETFROM:-0400
TZOFFSETTO:-0500
TZNAME:EST
DTSTART:20181104T060000
END:STANDARD
END:VTIMEZONE
BEGIN:VEVENT
DTSTART;TZID=America/New_York:20170411T130000
DTEND;TZID=America/New_York:20170411T140000
DTSTAMP:20260422T180650
CREATED:20170412T145324Z
LAST-MODIFIED:20170412T145325Z
UID:14437-1491915600-1491919200@digitalcontentnext.org
SUMMARY:Legal and Legislative Committee Call
DESCRIPTION:If you are a DCN publisher member\, please be sure to log in or register to access a PDF of the webinar presentation. \n\nLegal and Legislative Committee Calls are webinars summarizing and commenting on important policy\, law\, and legislative news surrounding digital content.  Only Digital Content Next Publisher members may attend.  If you are a DCN Publisher\, please contact members@digitalcontentnext.org for information on how to register. \nMeeting Agenda \n\nReview of VPPA Legislative Language\nTopics Under Consideration for Legal and Legislative Day
URL:https://digitalcontentnext.org/event/legal-legislative-committee-call-2017-04-11/
CATEGORIES:DCN Events
END:VEVENT
BEGIN:VEVENT
DTSTART;TZID=America/New_York:20170420T080000
DTEND;TZID=America/New_York:20170420T120000
DTSTAMP:20260422T180650
CREATED:20170405T135757Z
LAST-MODIFIED:20190701T141426Z
UID:14270-1492675200-1492689600@digitalcontentnext.org
SUMMARY:DCN Mobile Breakfast 2017
DESCRIPTION:If you are a DCN publisher member\, please be sure to log in or register to access PDFs of the presentations.\n \n\nConsumers today spend more time engaging with content of all types on mobile\, making speed\, thoughtful design and non-intrusive ad experiences imperative. We learned how your peers at DCN member companies are tackling the multiple challenges of programming\, delivering and monetizing excellent mobile experiences. \nTo see the full agenda and speaker list click here.
URL:https://digitalcontentnext.org/event/dcn-mobile-breakfast-2017/
CATEGORIES:DCN Events
ATTACH;FMTTYPE=image/png:https://digitalcontentnext.org/wp-content/uploads/2017/04/DCN-Mobile-Day-2017-Header-Image.png
END:VEVENT
END:VCALENDAR