
BEGIN:VCALENDAR
VERSION:2.0
PRODID:-//Digital Content Next - ECPv6.15.18//NONSGML v1.0//EN
CALSCALE:GREGORIAN
METHOD:PUBLISH
X-ORIGINAL-URL:https://digitalcontentnext.org
X-WR-CALDESC:Events for Digital Content Next
REFRESH-INTERVAL;VALUE=DURATION:PT1H
X-Robots-Tag:noindex
X-PUBLISHED-TTL:PT1H
BEGIN:VTIMEZONE
TZID:America/New_York
BEGIN:DAYLIGHT
TZOFFSETFROM:-0500
TZOFFSETTO:-0400
TZNAME:EDT
DTSTART:20150308T070000
END:DAYLIGHT
BEGIN:STANDARD
TZOFFSETFROM:-0400
TZOFFSETTO:-0500
TZNAME:EST
DTSTART:20151101T060000
END:STANDARD
BEGIN:DAYLIGHT
TZOFFSETFROM:-0500
TZOFFSETTO:-0400
TZNAME:EDT
DTSTART:20160313T070000
END:DAYLIGHT
BEGIN:STANDARD
TZOFFSETFROM:-0400
TZOFFSETTO:-0500
TZNAME:EST
DTSTART:20161106T060000
END:STANDARD
BEGIN:DAYLIGHT
TZOFFSETFROM:-0500
TZOFFSETTO:-0400
TZNAME:EDT
DTSTART:20170312T070000
END:DAYLIGHT
BEGIN:STANDARD
TZOFFSETFROM:-0400
TZOFFSETTO:-0500
TZNAME:EST
DTSTART:20171105T060000
END:STANDARD
END:VTIMEZONE
BEGIN:VEVENT
DTSTART;TZID=America/New_York:20160913T080000
DTEND;TZID=America/New_York:20160913T113000
DTSTAMP:20260422T181316
CREATED:20160818T174942Z
LAST-MODIFIED:20180420T144530Z
UID:11360-1473753600-1473766200@digitalcontentnext.org
SUMMARY:Powerful Storytelling 2016
DESCRIPTION:If you are a DCN publisher member\, please be sure to log in or register to access PDFs of approved presentations. \n\nAt this new DCN event we explored the core of our business: powerful stories and the people who create them. We highlighted the content superstars (and super stories) from inside and outside the DCN membership – from trusted journalists to those exploring the future of storytelling. \nTo see the full agenda and speaker list click here.
URL:https://digitalcontentnext.org/event/powerful-storytelling-2016/
LOCATION:The Dream Hotel Downtown\, 355 West 16th Street\, New York\, NY\, 10011\, United States
CATEGORIES:DCN Events
END:VEVENT
BEGIN:VEVENT
DTSTART;TZID=America/New_York:20160913T130000
DTEND;TZID=America/New_York:20160913T140000
DTSTAMP:20260422T181316
CREATED:20160913T164059Z
LAST-MODIFIED:20160913T164129Z
UID:11538-1473771600-1473775200@digitalcontentnext.org
SUMMARY:Legal and Legislative Committee Call
DESCRIPTION:If you are a DCN publisher member\, please be sure to log in or register after the webinar to access a PDF of the webinar presentation. \n\nLegal & Legislative Committee Calls are webinars summarizing and commenting on important policy\, law\, and legislative news surrounding digital content.  Only Digital Content Next Publisher members may attend.  If you are a DCN Publisher\, please contact members@digitalcontentnext.org for information on how to register. \nMeeting Agenda \n\nReview of Online Trust Alliance’s Native Advertising Survey\nPreview of FTC October Workshop on Drones
URL:https://digitalcontentnext.org/event/legal-and-legislative-committee-call-2016-09-13/
CATEGORIES:DCN Events
END:VEVENT
BEGIN:VEVENT
DTSTART;TZID=America/New_York:20160921T180000
DTEND;TZID=America/New_York:20160921T210000
DTSTAMP:20260422T181316
CREATED:20160229T155255Z
LAST-MODIFIED:20160229T155303Z
UID:9308-1474480800-1474491600@digitalcontentnext.org
SUMMARY:DCN Board of Directors Dinner
DESCRIPTION:
URL:https://digitalcontentnext.org/event/dcn-board-of-directors-dinner/
LOCATION:TBD
CATEGORIES:DCN Events
END:VEVENT
BEGIN:VEVENT
DTSTART;TZID=America/New_York:20160922T090000
DTEND;TZID=America/New_York:20160922T130000
DTSTAMP:20260422T181316
CREATED:20160229T155403Z
LAST-MODIFIED:20160229T155403Z
UID:9310-1474534800-1474549200@digitalcontentnext.org
SUMMARY:DCN Board of Directors Meeting
DESCRIPTION:
URL:https://digitalcontentnext.org/event/dcn-board-of-directors-meeting/
LOCATION:TBD
CATEGORIES:DCN Events
END:VEVENT
END:VCALENDAR