
BEGIN:VCALENDAR
VERSION:2.0
PRODID:-//Digital Content Next - ECPv6.15.18//NONSGML v1.0//EN
CALSCALE:GREGORIAN
METHOD:PUBLISH
X-WR-CALNAME:Digital Content Next
X-ORIGINAL-URL:https://digitalcontentnext.org
X-WR-CALDESC:Events for Digital Content Next
REFRESH-INTERVAL;VALUE=DURATION:PT1H
X-Robots-Tag:noindex
X-PUBLISHED-TTL:PT1H
BEGIN:VTIMEZONE
TZID:America/New_York
BEGIN:DAYLIGHT
TZOFFSETFROM:-0500
TZOFFSETTO:-0400
TZNAME:EDT
DTSTART:20150308T070000
END:DAYLIGHT
BEGIN:STANDARD
TZOFFSETFROM:-0400
TZOFFSETTO:-0500
TZNAME:EST
DTSTART:20151101T060000
END:STANDARD
BEGIN:DAYLIGHT
TZOFFSETFROM:-0500
TZOFFSETTO:-0400
TZNAME:EDT
DTSTART:20160313T070000
END:DAYLIGHT
BEGIN:STANDARD
TZOFFSETFROM:-0400
TZOFFSETTO:-0500
TZNAME:EST
DTSTART:20161106T060000
END:STANDARD
BEGIN:DAYLIGHT
TZOFFSETFROM:-0500
TZOFFSETTO:-0400
TZNAME:EDT
DTSTART:20170312T070000
END:DAYLIGHT
BEGIN:STANDARD
TZOFFSETFROM:-0400
TZOFFSETTO:-0500
TZNAME:EST
DTSTART:20171105T060000
END:STANDARD
END:VTIMEZONE
BEGIN:VEVENT
DTSTART;TZID=America/New_York:20160715T140000
DTEND;TZID=America/New_York:20160715T150000
DTSTAMP:20260422T180720
CREATED:20160715T144556Z
LAST-MODIFIED:20160715T190235Z
UID:11023-1468591200-1468594800@digitalcontentnext.org
SUMMARY:Legal and Legislative Committee Call: Review of the New US-EU Privacy Shield
DESCRIPTION:If you are a DCN publisher member\, please be sure to log in or register after the webinar to access a PDF of the webinar presentation. \n\nLegal & Legislative Committee Calls are webinars summarizing and commenting on important policy\, law\, and legislative news surrounding digital content.  Only Digital Content Next Publisher members may attend.  If you are a DCN Publisher\, please contact members@digitalcontentnext.org for information on how to register. \nMeeting Agenda \n\nReview of the New US-EU Privacy Shield
URL:https://digitalcontentnext.org/event/legal-and-legislative-committee-call-review-of-the-new-us-eu-privacy-shield/
CATEGORIES:DCN Events
END:VEVENT
BEGIN:VEVENT
DTSTART;TZID=America/New_York:20160721T140000
DTEND;TZID=America/New_York:20160721T150000
DTSTAMP:20260422T180720
CREATED:20160721T165144Z
LAST-MODIFIED:20160805T162248Z
UID:11079-1469109600-1469113200@digitalcontentnext.org
SUMMARY:Online Trust Alliance: Annual Trust Audit Webinar
DESCRIPTION:Craig Spiezle\, President of Online Trust Alliance\, presented results of OTA’s Annual Trust Audit that benchmarks the security\, privacy and consumer protection practices of nearly 1\,000 consumer-facing websites. In its 8th year\, the 2016 Audit included the top 100 media and content sites and all of DCN’s members. The objective of the study is to advance best practices in consumer and brand protection\, recognize industry leaders and promote self-regulation. \nAccording to this year’s results: \n\nOnly 19% of DCN members made the Honor Roll\nThe top two reasons for DCN members failing to make the Honor Roll were: \n\nConsumer Protection – lack of email authentication which leads to ransomware and spearfishing\nPrivacy – lack of data sharing and retention disclosures and a high level of 3rd party trackers\n\n\n\nMore info on the methodology here. Those sites that qualify for the Honor Roll by achieving 80% of the available base points are recognized and listed in the report. Among this year’s Honorees are DCN members: Business Week\, The New York Times and Weather.com.
URL:https://digitalcontentnext.org/event/online-trust-alliance-annual-trust-audit-webinar/
CATEGORIES:DCN Events
END:VEVENT
END:VCALENDAR