
BEGIN:VCALENDAR
VERSION:2.0
PRODID:-//Digital Content Next - ECPv6.15.18//NONSGML v1.0//EN
CALSCALE:GREGORIAN
METHOD:PUBLISH
X-ORIGINAL-URL:https://digitalcontentnext.org
X-WR-CALDESC:Events for Digital Content Next
REFRESH-INTERVAL;VALUE=DURATION:PT1H
X-Robots-Tag:noindex
X-PUBLISHED-TTL:PT1H
BEGIN:VTIMEZONE
TZID:America/New_York
BEGIN:DAYLIGHT
TZOFFSETFROM:-0500
TZOFFSETTO:-0400
TZNAME:EDT
DTSTART:20150308T070000
END:DAYLIGHT
BEGIN:STANDARD
TZOFFSETFROM:-0400
TZOFFSETTO:-0500
TZNAME:EST
DTSTART:20151101T060000
END:STANDARD
BEGIN:DAYLIGHT
TZOFFSETFROM:-0500
TZOFFSETTO:-0400
TZNAME:EDT
DTSTART:20160313T070000
END:DAYLIGHT
BEGIN:STANDARD
TZOFFSETFROM:-0400
TZOFFSETTO:-0500
TZNAME:EST
DTSTART:20161106T060000
END:STANDARD
BEGIN:DAYLIGHT
TZOFFSETFROM:-0500
TZOFFSETTO:-0400
TZNAME:EDT
DTSTART:20170312T070000
END:DAYLIGHT
BEGIN:STANDARD
TZOFFSETFROM:-0400
TZOFFSETTO:-0500
TZNAME:EST
DTSTART:20171105T060000
END:STANDARD
END:VTIMEZONE
BEGIN:VEVENT
DTSTART;TZID=America/New_York:20160503T180000
DTEND;TZID=America/New_York:20160503T210000
DTSTAMP:20260422T181211
CREATED:20160229T181552Z
LAST-MODIFIED:20160314T210557Z
UID:9302-1462298400-1462309200@digitalcontentnext.org
SUMMARY:DCN Board of Directors Dinner
DESCRIPTION:
URL:https://digitalcontentnext.org/event/dcn-board-of-directors-dinner-2/
LOCATION:Aquavit\, 65 East 55th Street\, New York\, NY\, 10022\, United States
CATEGORIES:DCN Events
END:VEVENT
BEGIN:VEVENT
DTSTART;TZID=America/New_York:20160504T090000
DTEND;TZID=America/New_York:20160504T130000
DTSTAMP:20260422T181211
CREATED:20160229T181523Z
LAST-MODIFIED:20160229T181523Z
UID:9304-1462352400-1462366800@digitalcontentnext.org
SUMMARY:DCN Board of Directors Meeting
DESCRIPTION:
URL:https://digitalcontentnext.org/event/dcn-board-of-directors-meeting-2/
LOCATION:Time Inc.\, Brookfield Place - 225 Liberty Street\, New York\, NY\, 10281\, United States
CATEGORIES:DCN Events
END:VEVENT
BEGIN:VEVENT
DTSTART;TZID=America/New_York:20160510T120000
DTEND;TZID=America/New_York:20160510T180000
DTSTAMP:20260422T181211
CREATED:20160229T154427Z
LAST-MODIFIED:20170419T170749Z
UID:9300-1462881600-1462903200@digitalcontentnext.org
SUMMARY:Content Everywhere 2016 - Managing Multi-Channel Distribution
DESCRIPTION:If you are a DCN publisher member\, please be sure to log in or register to access PDFs of the presentations. \n\nGoogle\, Twitter\, Apple\, Snapchat\, Facebook (and undoubtedly more to come) are controlling more of the media ecosystem than ever before. Their power — owning the connection point with the large number of consumers who are finding their news and entertainment today on social platforms — is only growing. Pew reports that more than 40 percent of US adults get their news from Facebook and an American Press Institute study notes that 88 percent of Millennials get news from Facebook. Is social distribution an unprecedented opportunity for publishers or simply unavoidable? \nFor the full agenda and speaker list click here.
URL:https://digitalcontentnext.org/event/content-everywhere-2016/
LOCATION:Time Inc.\, Brookfield Place - 225 Liberty Street\, New York\, NY\, 10281\, United States
CATEGORIES:DCN Events
END:VEVENT
BEGIN:VEVENT
DTSTART;TZID=America/New_York:20160510T130000
DTEND;TZID=America/New_York:20160510T140000
DTSTAMP:20260422T181211
CREATED:20160510T140046Z
LAST-MODIFIED:20160511T141746Z
UID:10354-1462885200-1462888800@digitalcontentnext.org
SUMMARY:Legal and Legislative Committee Call
DESCRIPTION:If you are a DCN publisher or supporter member\, please be sure to log in or register after the webinar to access a PDF of the webinar presentation. \n\nLegal & Legislative Committee Calls are webinars summarizing and commenting on important policy\, law\, and legislative news surrounding digital content.  Only Digital Content Next Publisher members may attend.  If you are a DCN Publisher\, please contact members@digitalcontentnext.org for information on how to register. \nMeeting Agenda \n\nReview of Proposed NTIA UAS (Drone) Code of Conduct\nUpdate on 2016 Legal and Legislative Day Agenda\nReview of concerns re FCC Privacy Rule\nUpdate on FCC Set Top Box Rule\nVPPA Ruling in Yershov v Gannett
URL:https://digitalcontentnext.org/event/legal-and-legislative-committee-call-2016-05-10/
CATEGORIES:DCN Events
END:VEVENT
END:VCALENDAR