
BEGIN:VCALENDAR
VERSION:2.0
PRODID:-//Digital Content Next - ECPv6.15.18//NONSGML v1.0//EN
CALSCALE:GREGORIAN
METHOD:PUBLISH
X-ORIGINAL-URL:https://digitalcontentnext.org
X-WR-CALDESC:Events for Digital Content Next
REFRESH-INTERVAL;VALUE=DURATION:PT1H
X-Robots-Tag:noindex
X-PUBLISHED-TTL:PT1H
BEGIN:VTIMEZONE
TZID:America/New_York
BEGIN:DAYLIGHT
TZOFFSETFROM:-0500
TZOFFSETTO:-0400
TZNAME:EDT
DTSTART:20140309T070000
END:DAYLIGHT
BEGIN:STANDARD
TZOFFSETFROM:-0400
TZOFFSETTO:-0500
TZNAME:EST
DTSTART:20141102T060000
END:STANDARD
BEGIN:DAYLIGHT
TZOFFSETFROM:-0500
TZOFFSETTO:-0400
TZNAME:EDT
DTSTART:20150308T070000
END:DAYLIGHT
BEGIN:STANDARD
TZOFFSETFROM:-0400
TZOFFSETTO:-0500
TZNAME:EST
DTSTART:20151101T060000
END:STANDARD
BEGIN:DAYLIGHT
TZOFFSETFROM:-0500
TZOFFSETTO:-0400
TZNAME:EDT
DTSTART:20160313T070000
END:DAYLIGHT
BEGIN:STANDARD
TZOFFSETFROM:-0400
TZOFFSETTO:-0500
TZNAME:EST
DTSTART:20161106T060000
END:STANDARD
END:VTIMEZONE
BEGIN:VEVENT
DTSTART;TZID=America/New_York:20151201T120000
DTEND;TZID=America/New_York:20151201T170000
DTSTAMP:20260422T181204
CREATED:20151008T192127Z
LAST-MODIFIED:20160112T182040Z
UID:7829-1448971200-1448989200@digitalcontentnext.org
SUMMARY:DCN Power of Brands
DESCRIPTION:As a member benefit\, DCN publisher members have access to PDF’s of the speaker sessions (from speakers who gave permission).  If you are a DCN publisher member\, please be sure to log in or register to view downloadable presentations.
URL:https://digitalcontentnext.org/event/dcn-power-of-brands/
LOCATION:Conde Nast\, 1 World Trade Center\, New York\, NY\, 10007\, United States
CATEGORIES:DCN Events
END:VEVENT
BEGIN:VEVENT
DTSTART;TZID=America/New_York:20151208T010000
DTEND;TZID=America/New_York:20151208T140000
DTSTAMP:20260422T181204
CREATED:20151118T174101Z
LAST-MODIFIED:20151209T155453Z
UID:8276-1449536400-1449583200@digitalcontentnext.org
SUMMARY:Legal & Legislative Committee Call
DESCRIPTION:If you are a DCN publisher or supporter member\, please be sure to log in or register after the webinar to access a PDF of the webinar presentation. \n\nLegal & Legislative Committee Calls are webinars summarizing and commenting on important policy\, law\, and legislative news surrounding digital content.  Only Digital Content Next Publisher members may attend.  If you are a DCN Publisher\, please contact members@digitalcontentnext.org for information on how to register. \nMeeting Agenda \n\nPreview and Discussion of December 16 event – The Consumer Rules: Lessons from Ad Blocking\nAd Blocking and Net Neutrality: What Can The FCC Do?
URL:https://digitalcontentnext.org/event/legal-legislative-committee-call-2015-12-08/
CATEGORIES:DCN Events
END:VEVENT
BEGIN:VEVENT
DTSTART;TZID=America/New_York:20151216T083000
DTEND;TZID=America/New_York:20151216T110000
DTSTAMP:20260422T181204
CREATED:20151209T144255Z
LAST-MODIFIED:20151215T161847Z
UID:8459-1450254600-1450263600@digitalcontentnext.org
SUMMARY:The Consumer Rules: Lessons from Ad Blocking
DESCRIPTION:This event is open to selected invitees and press only.  If you’re interested in attending\, please contact Chris Pedigo\, SVP of Government Affairs\, at chris@digitalcontentnext.org. \n\nAn interactive discussion on the exponential rise in the use of ad blocking software and the consumer concerns that are driving it. The panel discussion will include thought leaders in the community – market researchers\, government officials and industry experts – and is open to the press. \nPanel: \n\nJed Hartman\, Chief Revenue Officer\, Washington Post\nHeather West\, Senior Policy Manager\, Mozilla\nBen Barokas\, CEO\, Sourcepoint\nFatemeh Khatibloo\, Principal Analyst\, Forrester Research\nModerator: Ricardo Bilton\, Staff Writer\, Digiday\n\nFireside Chat:  \n\nJason Kint\, CEO\, Digital Content Next\nJulie Brill\, FTC Commissioner
URL:https://digitalcontentnext.org/event/the-consumer-rules-lessons-from-ad-blocking/
LOCATION:The Newseum\, 555 Pennsylvania Ave\, Washington\, D.C.\, DC\, 20001
CATEGORIES:DCN Events
END:VEVENT
END:VCALENDAR