
BEGIN:VCALENDAR
VERSION:2.0
PRODID:-//Digital Content Next - ECPv6.15.18//NONSGML v1.0//EN
CALSCALE:GREGORIAN
METHOD:PUBLISH
X-WR-CALNAME:Digital Content Next
X-ORIGINAL-URL:https://digitalcontentnext.org
X-WR-CALDESC:Events for Digital Content Next
REFRESH-INTERVAL;VALUE=DURATION:PT1H
X-Robots-Tag:noindex
X-PUBLISHED-TTL:PT1H
BEGIN:VTIMEZONE
TZID:America/New_York
BEGIN:DAYLIGHT
TZOFFSETFROM:-0500
TZOFFSETTO:-0400
TZNAME:EDT
DTSTART:20140309T070000
END:DAYLIGHT
BEGIN:STANDARD
TZOFFSETFROM:-0400
TZOFFSETTO:-0500
TZNAME:EST
DTSTART:20141102T060000
END:STANDARD
BEGIN:DAYLIGHT
TZOFFSETFROM:-0500
TZOFFSETTO:-0400
TZNAME:EDT
DTSTART:20150308T070000
END:DAYLIGHT
BEGIN:STANDARD
TZOFFSETFROM:-0400
TZOFFSETTO:-0500
TZNAME:EST
DTSTART:20151101T060000
END:STANDARD
BEGIN:DAYLIGHT
TZOFFSETFROM:-0500
TZOFFSETTO:-0400
TZNAME:EDT
DTSTART:20160313T070000
END:DAYLIGHT
BEGIN:STANDARD
TZOFFSETFROM:-0400
TZOFFSETTO:-0500
TZNAME:EST
DTSTART:20161106T060000
END:STANDARD
END:VTIMEZONE
BEGIN:VEVENT
DTSTART;TZID=America/New_York:20150402T090000
DTEND;TZID=America/New_York:20150402T170000
DTSTAMP:20260422T180747
CREATED:20150130T163733Z
LAST-MODIFIED:20150722T140914Z
UID:4182-1427965200-1427994000@digitalcontentnext.org
SUMMARY:DCN Tech Day 2015
DESCRIPTION:DCN Tech Day 2015 took place April 2\, 2015 at the Time Inc. Building in New York\, NY.  This annual\, member’s-only event is designed for senior technology executives from DCN member companies. \nTech Day 2015 featured presentations from DCN members and industry guests on viewability\, ad-blocking\, fraud and security\, encouraging diversity in tech teams and other hot tech topics. The agenda can be found here: Agenda. \nAs a member benefit\, DCN publisher members have access to PDF’s of the speaker sessions (from speakers who gave permission).  If you are a DCN publisher member\, please be sure to log in or register to view downloadable presentations.
URL:https://digitalcontentnext.org/event/dcn-tech-day/
LOCATION:Time\, Inc.\, 1271 Avenue of the Americas\, 8th Floor Auditorium\, New York\, NY\, United States
CATEGORIES:DCN Events
END:VEVENT
BEGIN:VEVENT
DTSTART;TZID=America/New_York:20150414T130000
DTEND;TZID=America/New_York:20150414T140000
DTSTAMP:20260422T180747
CREATED:20150414T170037Z
LAST-MODIFIED:20150706T204748Z
UID:5343-1429016400-1429020000@digitalcontentnext.org
SUMMARY:Legal & Legislative Committee Call
DESCRIPTION:If you are a DCN publisher or supporter member\, please be sure to log in or register to access a PDF of the webinar presentation. \n\nLegal & Legislative Committee Calls are webinars summarizing and commenting on important policy\, law\, and legislative news surrounding digital content.  Only Digital Content Next Publisher members may attend.  If you are a DCN Publisher\, please contact members@digitalcontentnext.org for information on how to register. \nMeeting Agenda \n\nUpdate on House Data Breach Legislation\nTrustworthy Accountability Group (TAG) To Take on Fraud\n2015 Legal and Legislative Day – Update
URL:https://digitalcontentnext.org/event/legal-legislative-committee-call-5/
CATEGORIES:DCN Events
END:VEVENT
BEGIN:VEVENT
DTSTART;TZID=America/New_York:20150422T180000
DTEND;TZID=America/New_York:20150422T210000
DTSTAMP:20260422T180747
CREATED:20150130T163940Z
LAST-MODIFIED:20150713T175837Z
UID:4184-1429725600-1429736400@digitalcontentnext.org
SUMMARY:DCN Board Dinner - April 2015
DESCRIPTION:6pm – 9pm \nPark Avenue Spring – 360 Park Avenue (26th St. @ Park Avenue South) – The Gallery Room – New York\, NY
URL:https://digitalcontentnext.org/event/dcn-board-dinner/
LOCATION:Park Avenue Spring\, 360 Park Avenue - The Gallery Room\, New York\, NY\, 10010\, United States
CATEGORIES:DCN Events
END:VEVENT
BEGIN:VEVENT
DTSTART;TZID=America/New_York:20150423T090000
DTEND;TZID=America/New_York:20150423T130000
DTSTAMP:20260422T180747
CREATED:20150130T164104Z
LAST-MODIFIED:20150713T175828Z
UID:4186-1429779600-1429794000@digitalcontentnext.org
SUMMARY:DCN Board Meeting - April 2015
DESCRIPTION:9:00am – 1pm \nHearst Corporation – 300 West 57th Street\, 44th Floor\, East Room \nNew York\, NY
URL:https://digitalcontentnext.org/event/dcn-board-meeting/
LOCATION:Hearst Corporation\, 300 West 57th Street\, 44th Floor\, East Room\, New York\, NY\, 10019\, United States
CATEGORIES:DCN Events
END:VEVENT
END:VCALENDAR