
BEGIN:VCALENDAR
VERSION:2.0
PRODID:-//Digital Content Next - ECPv6.15.18//NONSGML v1.0//EN
CALSCALE:GREGORIAN
METHOD:PUBLISH
X-ORIGINAL-URL:https://digitalcontentnext.org
X-WR-CALDESC:Events for Digital Content Next
REFRESH-INTERVAL;VALUE=DURATION:PT1H
X-Robots-Tag:noindex
X-PUBLISHED-TTL:PT1H
BEGIN:VTIMEZONE
TZID:America/New_York
BEGIN:DAYLIGHT
TZOFFSETFROM:-0500
TZOFFSETTO:-0400
TZNAME:EDT
DTSTART:20140309T070000
END:DAYLIGHT
BEGIN:STANDARD
TZOFFSETFROM:-0400
TZOFFSETTO:-0500
TZNAME:EST
DTSTART:20141102T060000
END:STANDARD
BEGIN:DAYLIGHT
TZOFFSETFROM:-0500
TZOFFSETTO:-0400
TZNAME:EDT
DTSTART:20150308T070000
END:DAYLIGHT
BEGIN:STANDARD
TZOFFSETFROM:-0400
TZOFFSETTO:-0500
TZNAME:EST
DTSTART:20151101T060000
END:STANDARD
BEGIN:DAYLIGHT
TZOFFSETFROM:-0500
TZOFFSETTO:-0400
TZNAME:EDT
DTSTART:20160313T070000
END:DAYLIGHT
BEGIN:STANDARD
TZOFFSETFROM:-0400
TZOFFSETTO:-0500
TZNAME:EST
DTSTART:20161106T060000
END:STANDARD
END:VTIMEZONE
BEGIN:VEVENT
DTSTART;TZID=America/New_York:20150113T010000
DTEND;TZID=America/New_York:20150113T140000
DTSTAMP:20260422T181213
CREATED:20150113T180053Z
LAST-MODIFIED:20150706T204858Z
UID:3951-1421110800-1421157600@digitalcontentnext.org
SUMMARY:Legal & Legislative Committee Call
DESCRIPTION:Legal & Legislative Committee Calls are webinars summarizing and commenting on important policy\, law\, and legislative news surrounding digital content. \nOnly Digital Content Next Publisher members may attend.  If you are a DCN Publisher\, please contact members@digitalcontentnext.org for information on how to register. \nMeeting Agenda \n\nUpdate on W3C DNT Standard\nDAA Developments\nPresidential Initiatives re Consumer Privacy\n\nUpdate (1/16/15): \nWe provided an update on the W3C’s Do Not Track Standard and the efforts of the Digital Advertising Alliance.  However\, we spent most of our time discussing the President’s privacy initiatives that were announced on Monday\, January 12.  This deck provides a thumbnail sketch of the 4-pronged announcement along with links to more information about each initiative.
URL:https://digitalcontentnext.org/event/legal-legislative-committee-call-4/
CATEGORIES:DCN Events
END:VEVENT
BEGIN:VEVENT
DTSTART;VALUE=DATE:20150121
DTEND;VALUE=DATE:20150124
DTSTAMP:20260422T181213
CREATED:20150121T214619Z
LAST-MODIFIED:20231003T194122Z
UID:3299-1421798400-1422057599@digitalcontentnext.org
SUMMARY:2015 DCN Summit
DESCRIPTION:The DCN Summit  – themed Attention Economy – took place January 21-23 in Miami\, FL. As a member benefit\, DCN publisher members have access to video of speaker sessions (from speakers who gave permission). \nIf you are a DCN publisher or supporter member\, please be sure to log in or register to view presentation videos and downloadable presentations.
URL:https://digitalcontentnext.org/event/2015-dcn-summit-the-attention-economy/
CATEGORIES:DCN Events
END:VEVENT
END:VCALENDAR