
BEGIN:VCALENDAR
VERSION:2.0
PRODID:-//Digital Content Next - ECPv6.15.18//NONSGML v1.0//EN
CALSCALE:GREGORIAN
METHOD:PUBLISH
X-WR-CALNAME:Digital Content Next
X-ORIGINAL-URL:https://digitalcontentnext.org
X-WR-CALDESC:Events for Digital Content Next
REFRESH-INTERVAL;VALUE=DURATION:PT1H
X-Robots-Tag:noindex
X-PUBLISHED-TTL:PT1H
BEGIN:VTIMEZONE
TZID:America/New_York
BEGIN:DAYLIGHT
TZOFFSETFROM:-0500
TZOFFSETTO:-0400
TZNAME:EDT
DTSTART:20130310T070000
END:DAYLIGHT
BEGIN:STANDARD
TZOFFSETFROM:-0400
TZOFFSETTO:-0500
TZNAME:EST
DTSTART:20131103T060000
END:STANDARD
BEGIN:DAYLIGHT
TZOFFSETFROM:-0500
TZOFFSETTO:-0400
TZNAME:EDT
DTSTART:20140309T070000
END:DAYLIGHT
BEGIN:STANDARD
TZOFFSETFROM:-0400
TZOFFSETTO:-0500
TZNAME:EST
DTSTART:20141102T060000
END:STANDARD
BEGIN:DAYLIGHT
TZOFFSETFROM:-0500
TZOFFSETTO:-0400
TZNAME:EDT
DTSTART:20150308T070000
END:DAYLIGHT
BEGIN:STANDARD
TZOFFSETFROM:-0400
TZOFFSETTO:-0500
TZNAME:EST
DTSTART:20151101T060000
END:STANDARD
END:VTIMEZONE
BEGIN:VEVENT
DTSTART;TZID=America/New_York:20140919T080000
DTEND;TZID=America/New_York:20140919T170000
DTSTAMP:20260422T180839
CREATED:20140917T194926Z
LAST-MODIFIED:20170914T153531Z
UID:1753-1411113600-1411146000@digitalcontentnext.org
SUMMARY:Content All Stars
DESCRIPTION:Join us to see who is shaping the future of marketing and media with compelling content experiences. Marketing and digital media leaders from a diverse range of businesses — from energy drinks to finance and from pop culture to the newspaper of record — will be in attendance and on the agenda. Content All Stars is a one-of-a-kind networking and learning opportunity designed to help you make connections that will matter\, personally and professionally. \nNote: If you are a DCN Publisher member be sure to log in to the member center to access more content below.
URL:https://digitalcontentnext.org/event/content-all-stars-2014/
LOCATION:DCN event\, 111 e 38th st\, new york\, NY\, 11101\, United States
CATEGORIES:DCN Events
END:VEVENT
END:VCALENDAR