
BEGIN:VCALENDAR
VERSION:2.0
PRODID:-//Digital Content Next - ECPv5.8.1//NONSGML v1.0//EN
CALSCALE:GREGORIAN
METHOD:PUBLISH
X-WR-CALNAME:Digital Content Next
X-ORIGINAL-URL:https://digitalcontentnext.org
X-WR-CALDESC:Events for Digital Content Next
BEGIN:VTIMEZONE
TZID:America/New_York
BEGIN:DAYLIGHT
TZOFFSETFROM:-0500
TZOFFSETTO:-0400
TZNAME:EDT
DTSTART:20210314T070000
END:DAYLIGHT
BEGIN:STANDARD
TZOFFSETFROM:-0400
TZOFFSETTO:-0500
TZNAME:EST
DTSTART:20211107T060000
END:STANDARD
END:VTIMEZONE
BEGIN:VEVENT
DTSTART;TZID=America/New_York:20210902T120000
DTEND;TZID=America/New_York:20210902T124500
DTSTAMP:20210911T160058
CREATED:20201210T220346Z
LAST-MODIFIED:20210902T184208Z
UID:29539-1630584000-1630586700@digitalcontentnext.org
SUMMARY:Subscription Innovation Series #3 - Retention strategies from the Financial Times
DESCRIPTION:A DCN members-only series of events designed to dig deeply into the critical issues\, challenges and innovations of driving consumer revenue with subscriptions and memberships. Join us for these insightful presentations and open conversations with your DCN peers \nMarie Goddard is Director of Customer Relationships for the consumer subscription business at the Financial Times. Based in London\, she leads the customer relationships team\, responsible for driving engagement and retention\, and increasing the overall life-time value of the customer base. Since joining the FT in 2018\, Marie has introduced a new life-cycle approach across the customer base\, with teams focused on creating customer-centric “centres of excellence”.
URL:https://digitalcontentnext.org/event/subscription-innovation-series-session-3/
CATEGORIES:DCN Events
END:VEVENT
BEGIN:VEVENT
DTSTART;TZID=America/New_York:20210909T120000
DTEND;TZID=America/New_York:20210909T124500
DTSTAMP:20210911T160058
CREATED:20201210T220500Z
LAST-MODIFIED:20210823T225514Z
UID:29542-1631188800-1631191500@digitalcontentnext.org
SUMMARY:Subscription Innovation Series #4 – Enhancing subscriber engagement and growth through email newsletters
DESCRIPTION:A DCN members-only series of events designed to dig deeply into the critical issues\, challenges and innovations of driving consumer revenue with subscriptions and memberships. Join us for these insightful presentations and open conversations with your DCN peers. \nRachel Schindler is co-founder and VP growth and product of Punchbowl News. \nAllison Mezzafonte is Media Advisor at Sailthru \nSponsored by:
URL:https://events.digitalcontentnext.org/subscription-innovation-series-2021#new_tab
CATEGORIES:DCN Events
END:VEVENT
BEGIN:VEVENT
DTSTART;TZID=America/New_York:20210913T120000
DTEND;TZID=America/New_York:20210913T124500
DTSTAMP:20210911T160058
CREATED:20210811T162940Z
LAST-MODIFIED:20210907T171318Z
UID:31933-1631534400-1631537100@digitalcontentnext.org
SUMMARY:Gen Z Digital Media Attitudes\, Values and Behavior
DESCRIPTION:Join your DCN member peers for the release of our latest consumer research on the attitudes\, values and behaviors of Gen Z in regards to digital media. Generation Z is the first digital generation\, born between 1997 to 2012. They have no memory of a pre-internet world and are true digital natives – socially driven and natural multitaskers. Understanding Gen Z’s media experiences and entertainment preferences is a priority for publishers because they are the future of digital media. \nThe full research report will be released to DCN members directly after the presentation and panel discussion.
URL:https://events.digitalcontentnext.org/gen-z#new_tab
CATEGORIES:DCN Events
END:VEVENT
BEGIN:VEVENT
DTSTART;TZID=America/New_York:20210921T120000
DTEND;TZID=America/New_York:20210921T124500
DTSTAMP:20210911T160058
CREATED:20210310T222801Z
LAST-MODIFIED:20210811T162752Z
UID:30283-1632225600-1632228300@digitalcontentnext.org
SUMMARY:Subscription Innovation Series #5 - Exploring the impact of Covid on the WSJ's membership strategy
DESCRIPTION:A DCN members-only series of events designed to dig deeply into the critical issues\, challenges and innovations of driving consumer revenue with subscriptions and memberships. Join us for these insightful presentations and open conversations with your DCN peers. \nChristina Komporlis is the Senior Vice President of Professional Membership at The Wall Street Journal.
URL:https://events.digitalcontentnext.org/subscription-innovation-series-2021#new_tab
CATEGORIES:DCN Events
END:VEVENT
BEGIN:VEVENT
DTSTART;TZID=America/New_York:20210923T120000
DTEND;TZID=America/New_York:20210923T124500
DTSTAMP:20210911T160058
CREATED:20210723T152527Z
LAST-MODIFIED:20210723T152527Z
UID:31763-1632398400-1632401100@digitalcontentnext.org
SUMMARY:Subscription Innovation Series #6 – Subscriber growth through experience optimization
DESCRIPTION:A DCN members-only series of events designed to dig deeply into the critical issues\, challenges and innovations of driving consumer revenue with subscriptions and memberships. Join us for these insightful presentations and open conversations with your DCN peers. \nMatt Cronin is a founding partner of House of Kaizen. \nSponsored by:
URL:https://events.digitalcontentnext.org/subscription-innovation-series-2021#new_tab
CATEGORIES:DCN Events
END:VEVENT
END:VCALENDAR