
BEGIN:VCALENDAR
VERSION:2.0
PRODID:-//Digital Content Next - ECPv5.8.1//NONSGML v1.0//EN
CALSCALE:GREGORIAN
METHOD:PUBLISH
X-WR-CALNAME:Digital Content Next
X-ORIGINAL-URL:https://digitalcontentnext.org
X-WR-CALDESC:Events for Digital Content Next
BEGIN:VTIMEZONE
TZID:America/New_York
BEGIN:DAYLIGHT
TZOFFSETFROM:-0500
TZOFFSETTO:-0400
TZNAME:EDT
DTSTART:20210314T070000
END:DAYLIGHT
BEGIN:STANDARD
TZOFFSETFROM:-0400
TZOFFSETTO:-0500
TZNAME:EST
DTSTART:20211107T060000
END:STANDARD
END:VTIMEZONE
BEGIN:VEVENT
DTSTART;TZID=America/New_York:20210913T120000
DTEND;TZID=America/New_York:20210913T124500
DTSTAMP:20210913T043009
CREATED:20210811T162940Z
LAST-MODIFIED:20210907T171318Z
UID:31933-1631534400-1631537100@digitalcontentnext.org
SUMMARY:Gen Z Digital Media Attitudes\, Values and Behavior
DESCRIPTION:Join your DCN member peers for the release of our latest consumer research on the attitudes\, values and behaviors of Gen Z in regards to digital media. Generation Z is the first digital generation\, born between 1997 to 2012. They have no memory of a pre-internet world and are true digital natives – socially driven and natural multitaskers. Understanding Gen Z’s media experiences and entertainment preferences is a priority for publishers because they are the future of digital media. \nThe full research report will be released to DCN members directly after the presentation and panel discussion.
URL:https://events.digitalcontentnext.org/gen-z#new_tab
CATEGORIES:DCN Events
END:VEVENT
END:VCALENDAR