
BEGIN:VCALENDAR
VERSION:2.0
PRODID:-//Digital Content Next - ECPv5.8.1//NONSGML v1.0//EN
CALSCALE:GREGORIAN
METHOD:PUBLISH
X-WR-CALNAME:Digital Content Next
X-ORIGINAL-URL:https://digitalcontentnext.org
X-WR-CALDESC:Events for Digital Content Next
BEGIN:VTIMEZONE
TZID:America/New_York
BEGIN:DAYLIGHT
TZOFFSETFROM:-0500
TZOFFSETTO:-0400
TZNAME:EDT
DTSTART:20190310T070000
END:DAYLIGHT
BEGIN:STANDARD
TZOFFSETFROM:-0400
TZOFFSETTO:-0500
TZNAME:EST
DTSTART:20191103T060000
END:STANDARD
END:VTIMEZONE
BEGIN:VEVENT
DTSTART;VALUE=DATE:20190128
DTEND;VALUE=DATE:20190131
DTSTAMP:20210913T053338
CREATED:20180226T170052Z
LAST-MODIFIED:20190218T140239Z
UID:18142-1548633600-1548892799@digitalcontentnext.org
SUMMARY:DCN Next: Summit 2019
DESCRIPTION:At the 2019 DCN Next: Summit\, our members gathered to hear from leaders in the digital media business and to network and learn from each other. \nIf you are a DCN Publisher member\, be sure to log in or register for access videos. Links appear below presenter headshots.
URL:https://digitalcontentnext.org/event/dcn-next-summit-2019/
CATEGORIES:DCN Events
ATTACH;FMTTYPE=image/jpeg:https://digitalcontentnext.org/wp-content/uploads/2018/02/Ritz-Carlton-Orlando-Grande-Lakes.jpg
END:VEVENT
END:VCALENDAR