
BEGIN:VCALENDAR
VERSION:2.0
PRODID:-//Digital Content Next - ECPv6.15.18//NONSGML v1.0//EN
CALSCALE:GREGORIAN
METHOD:PUBLISH
X-WR-CALNAME:Digital Content Next
X-ORIGINAL-URL:https://digitalcontentnext.org
X-WR-CALDESC:Events for Digital Content Next
REFRESH-INTERVAL;VALUE=DURATION:PT1H
X-Robots-Tag:noindex
X-PUBLISHED-TTL:PT1H
BEGIN:VTIMEZONE
TZID:America/New_York
BEGIN:DAYLIGHT
TZOFFSETFROM:-0500
TZOFFSETTO:-0400
TZNAME:EDT
DTSTART:20160313T070000
END:DAYLIGHT
BEGIN:STANDARD
TZOFFSETFROM:-0400
TZOFFSETTO:-0500
TZNAME:EST
DTSTART:20161106T060000
END:STANDARD
BEGIN:DAYLIGHT
TZOFFSETFROM:-0500
TZOFFSETTO:-0400
TZNAME:EDT
DTSTART:20170312T070000
END:DAYLIGHT
BEGIN:STANDARD
TZOFFSETFROM:-0400
TZOFFSETTO:-0500
TZNAME:EST
DTSTART:20171105T060000
END:STANDARD
BEGIN:DAYLIGHT
TZOFFSETFROM:-0500
TZOFFSETTO:-0400
TZNAME:EDT
DTSTART:20180311T070000
END:DAYLIGHT
BEGIN:STANDARD
TZOFFSETFROM:-0400
TZOFFSETTO:-0500
TZNAME:EST
DTSTART:20181104T060000
END:STANDARD
END:VTIMEZONE
BEGIN:VEVENT
DTSTART;TZID=America/New_York:20171212T130000
DTEND;TZID=America/New_York:20171212T140000
DTSTAMP:20260422T175558
CREATED:20171212T180021Z
LAST-MODIFIED:20171213T223346Z
UID:17333-1513083600-1513087200@digitalcontentnext.org
SUMMARY:Legal and Legislative Committee Call
DESCRIPTION:If you are a DCN publisher member\, please be sure to log in or register to access PDFs of the presentations.  Approved presentations appear below the speaker’s headshot. \n\nLegal and Legislative Committee Calls are webinars summarizing and commenting on important policy\, law\, and legislative news surrounding digital content.  Only Digital Content Next Publisher members may attend. \nMeeting Agenda \n\nSpecial Guest – Brian Hart\, Director\, Office of Media Relations at the FCC will share the latest on the agency’s plan re Net Neutrality\nSection 230 Legislation – State of Play\nDCN Position on Federal Data Breach Legislation
URL:https://digitalcontentnext.org/event/legal-legislative-committee-call-2017-12-12/
CATEGORIES:DCN Events
END:VEVENT
END:VCALENDAR