
BEGIN:VCALENDAR
VERSION:2.0
PRODID:-//Digital Content Next - ECPv6.15.18//NONSGML v1.0//EN
CALSCALE:GREGORIAN
METHOD:PUBLISH
X-WR-CALNAME:Digital Content Next
X-ORIGINAL-URL:https://digitalcontentnext.org
X-WR-CALDESC:Events for Digital Content Next
REFRESH-INTERVAL;VALUE=DURATION:PT1H
X-Robots-Tag:noindex
X-PUBLISHED-TTL:PT1H
BEGIN:VTIMEZONE
TZID:America/New_York
BEGIN:DAYLIGHT
TZOFFSETFROM:-0500
TZOFFSETTO:-0400
TZNAME:EDT
DTSTART:20160313T070000
END:DAYLIGHT
BEGIN:STANDARD
TZOFFSETFROM:-0400
TZOFFSETTO:-0500
TZNAME:EST
DTSTART:20161106T060000
END:STANDARD
BEGIN:DAYLIGHT
TZOFFSETFROM:-0500
TZOFFSETTO:-0400
TZNAME:EDT
DTSTART:20170312T070000
END:DAYLIGHT
BEGIN:STANDARD
TZOFFSETFROM:-0400
TZOFFSETTO:-0500
TZNAME:EST
DTSTART:20171105T060000
END:STANDARD
BEGIN:DAYLIGHT
TZOFFSETFROM:-0500
TZOFFSETTO:-0400
TZNAME:EDT
DTSTART:20180311T070000
END:DAYLIGHT
BEGIN:STANDARD
TZOFFSETFROM:-0400
TZOFFSETTO:-0500
TZNAME:EST
DTSTART:20181104T060000
END:STANDARD
END:VTIMEZONE
BEGIN:VEVENT
DTSTART;TZID=America/New_York:20171206T120000
DTEND;TZID=America/New_York:20171206T170000
DTSTAMP:20260422T175623
CREATED:20170405T172051Z
LAST-MODIFIED:20180111T214110Z
UID:14309-1512561600-1512579600@digitalcontentnext.org
SUMMARY:DCN Powerful Storytelling 2017
DESCRIPTION:If you are a DCN publisher member\, please be sure to log in or register to access PDFs of the presentations.  Approved presentations appear below a speaker’s headshot.\n \n\nWe’ll explore the core of our business: powerful stories and the people who create them. We’ll highlight the content superstars (and super stories) from inside and outside the DCN membership – from trusted journalists to those exploring the future of storytelling. You’ll walk away inspired by the work of your peers and challenged to think in new ways. \nTo see the full agenda and speaker list click here.
URL:https://digitalcontentnext.org/event/dcn-powerful-storytelling-2017/
CATEGORIES:DCN Events
ATTACH;FMTTYPE=image/png:https://digitalcontentnext.org/wp-content/uploads/2017/04/DCN-Powerful-Storytelling-2017-Header-Image.png
END:VEVENT
END:VCALENDAR