
BEGIN:VCALENDAR
VERSION:2.0
PRODID:-//Digital Content Next - ECPv6.15.18//NONSGML v1.0//EN
CALSCALE:GREGORIAN
METHOD:PUBLISH
X-WR-CALNAME:Digital Content Next
X-ORIGINAL-URL:https://digitalcontentnext.org
X-WR-CALDESC:Events for Digital Content Next
REFRESH-INTERVAL;VALUE=DURATION:PT1H
X-Robots-Tag:noindex
X-PUBLISHED-TTL:PT1H
BEGIN:VTIMEZONE
TZID:America/New_York
BEGIN:DAYLIGHT
TZOFFSETFROM:-0500
TZOFFSETTO:-0400
TZNAME:EDT
DTSTART:20160313T070000
END:DAYLIGHT
BEGIN:STANDARD
TZOFFSETFROM:-0400
TZOFFSETTO:-0500
TZNAME:EST
DTSTART:20161106T060000
END:STANDARD
BEGIN:DAYLIGHT
TZOFFSETFROM:-0500
TZOFFSETTO:-0400
TZNAME:EDT
DTSTART:20170312T070000
END:DAYLIGHT
BEGIN:STANDARD
TZOFFSETFROM:-0400
TZOFFSETTO:-0500
TZNAME:EST
DTSTART:20171105T060000
END:STANDARD
BEGIN:DAYLIGHT
TZOFFSETFROM:-0500
TZOFFSETTO:-0400
TZNAME:EDT
DTSTART:20180311T070000
END:DAYLIGHT
BEGIN:STANDARD
TZOFFSETFROM:-0400
TZOFFSETTO:-0500
TZNAME:EST
DTSTART:20181104T060000
END:STANDARD
END:VTIMEZONE
BEGIN:VEVENT
DTSTART;TZID=America/New_York:20170913T143000
DTEND;TZID=America/New_York:20170913T163000
DTSTAMP:20260422T175654
CREATED:20170719T200736Z
LAST-MODIFIED:20170914T141154Z
UID:15620-1505313000-1505320200@digitalcontentnext.org
SUMMARY:Press Freedom: Lessons Learned from Around the World
DESCRIPTION:An interactive discussion on the importance of a free and independent press.  The panel discussion will include journalists who have faced persecution and intimidation in various parts of the world.  In addition to hearing a first-hand account of their harrowing experiences\, we’ll also discuss the state of press freedom around the globe. \nTo see the full agenda and speaker list\, click here. \nThis program was co-presented by Digital Content Next and the Newseum Institute.
URL:https://digitalcontentnext.org/event/press-freedom-lessons-learned-around-world/
CATEGORIES:DCN Events
END:VEVENT
END:VCALENDAR