
BEGIN:VCALENDAR
VERSION:2.0
PRODID:-//Digital Content Next - ECPv6.15.18//NONSGML v1.0//EN
CALSCALE:GREGORIAN
METHOD:PUBLISH
X-WR-CALNAME:Digital Content Next
X-ORIGINAL-URL:https://digitalcontentnext.org
X-WR-CALDESC:Events for Digital Content Next
REFRESH-INTERVAL;VALUE=DURATION:PT1H
X-Robots-Tag:noindex
X-PUBLISHED-TTL:PT1H
BEGIN:VTIMEZONE
TZID:America/New_York
BEGIN:DAYLIGHT
TZOFFSETFROM:-0500
TZOFFSETTO:-0400
TZNAME:EDT
DTSTART:20160313T070000
END:DAYLIGHT
BEGIN:STANDARD
TZOFFSETFROM:-0400
TZOFFSETTO:-0500
TZNAME:EST
DTSTART:20161106T060000
END:STANDARD
BEGIN:DAYLIGHT
TZOFFSETFROM:-0500
TZOFFSETTO:-0400
TZNAME:EDT
DTSTART:20170312T070000
END:DAYLIGHT
BEGIN:STANDARD
TZOFFSETFROM:-0400
TZOFFSETTO:-0500
TZNAME:EST
DTSTART:20171105T060000
END:STANDARD
BEGIN:DAYLIGHT
TZOFFSETFROM:-0500
TZOFFSETTO:-0400
TZNAME:EDT
DTSTART:20180311T070000
END:DAYLIGHT
BEGIN:STANDARD
TZOFFSETFROM:-0400
TZOFFSETTO:-0500
TZNAME:EST
DTSTART:20181104T060000
END:STANDARD
END:VTIMEZONE
BEGIN:VEVENT
DTSTART;TZID=America/New_York:20170221T113000
DTEND;TZID=America/New_York:20170221T133000
DTSTAMP:20260422T175526
CREATED:20170214T195151Z
LAST-MODIFIED:20170214T195151Z
UID:13178-1487676600-1487683800@digitalcontentnext.org
SUMMARY:DCN Special Webinar: EU’s General Data Protection Regulation (GDPR)
DESCRIPTION:We are pleased to announce that DCN will host a webinar on Tuesday\, February 21 at 11:30 AM EST regarding the EU’s General Data Protection Regulation (GDPR)\, which is set to take effect in May 2018 and will apply to any publisher with a European audience. Senior personnel from the Financial Times and the New York Times have graciously agreed to share how they are preparing to comply with the GDPR including the processes they have used and the challenges they have faced. Following their presentations\, there will be time for questions as well as discussion about how DCN could be helpful moving forward.  If you are a DCN Publisher member and would like to attend\, please contact Chris Pedigo (chris@digitalcontentnext.org).
URL:https://digitalcontentnext.org/event/dcn-special-webinar-eus-general-data-protection-regulation-gdpr/
CATEGORIES:DCN Events
END:VEVENT
END:VCALENDAR