
BEGIN:VCALENDAR
VERSION:2.0
PRODID:-//Digital Content Next - ECPv6.15.18//NONSGML v1.0//EN
CALSCALE:GREGORIAN
METHOD:PUBLISH
X-WR-CALNAME:Digital Content Next
X-ORIGINAL-URL:https://digitalcontentnext.org
X-WR-CALDESC:Events for Digital Content Next
REFRESH-INTERVAL;VALUE=DURATION:PT1H
X-Robots-Tag:noindex
X-PUBLISHED-TTL:PT1H
BEGIN:VTIMEZONE
TZID:America/New_York
BEGIN:DAYLIGHT
TZOFFSETFROM:-0500
TZOFFSETTO:-0400
TZNAME:EDT
DTSTART:20160313T070000
END:DAYLIGHT
BEGIN:STANDARD
TZOFFSETFROM:-0400
TZOFFSETTO:-0500
TZNAME:EST
DTSTART:20161106T060000
END:STANDARD
BEGIN:DAYLIGHT
TZOFFSETFROM:-0500
TZOFFSETTO:-0400
TZNAME:EDT
DTSTART:20170312T070000
END:DAYLIGHT
BEGIN:STANDARD
TZOFFSETFROM:-0400
TZOFFSETTO:-0500
TZNAME:EST
DTSTART:20171105T060000
END:STANDARD
BEGIN:DAYLIGHT
TZOFFSETFROM:-0500
TZOFFSETTO:-0400
TZNAME:EDT
DTSTART:20180311T070000
END:DAYLIGHT
BEGIN:STANDARD
TZOFFSETFROM:-0400
TZOFFSETTO:-0500
TZNAME:EST
DTSTART:20181104T060000
END:STANDARD
END:VTIMEZONE
BEGIN:VEVENT
DTSTART;VALUE=DATE:20170118
DTEND;VALUE=DATE:20170121
DTSTAMP:20260422T175520
CREATED:20160616T152812Z
LAST-MODIFIED:20180420T145255Z
UID:10747-1484697600-1484956799@digitalcontentnext.org
SUMMARY:DCN Next: Summit 2017
DESCRIPTION:If you are a DCN Publisher member\, be sure to log in or register for access to presentations and videos.\n\n\n\nAt the 2017 DCN Next: Summit\, our members gather to hear from leaders in the digital media business and to network and learn from each other.
URL:https://digitalcontentnext.org/event/dcn-next-summit-2017/
LOCATION:The Ritz-Carlton\, 921 Canal Street\, New Orleans\, LA\, 70112\, United States
CATEGORIES:DCN Events
END:VEVENT
END:VCALENDAR