
BEGIN:VCALENDAR
VERSION:2.0
PRODID:-//Digital Content Next - ECPv6.15.18//NONSGML v1.0//EN
CALSCALE:GREGORIAN
METHOD:PUBLISH
X-WR-CALNAME:Digital Content Next
X-ORIGINAL-URL:https://digitalcontentnext.org
X-WR-CALDESC:Events for Digital Content Next
REFRESH-INTERVAL;VALUE=DURATION:PT1H
X-Robots-Tag:noindex
X-PUBLISHED-TTL:PT1H
BEGIN:VTIMEZONE
TZID:America/New_York
BEGIN:DAYLIGHT
TZOFFSETFROM:-0500
TZOFFSETTO:-0400
TZNAME:EDT
DTSTART:20150308T070000
END:DAYLIGHT
BEGIN:STANDARD
TZOFFSETFROM:-0400
TZOFFSETTO:-0500
TZNAME:EST
DTSTART:20151101T060000
END:STANDARD
BEGIN:DAYLIGHT
TZOFFSETFROM:-0500
TZOFFSETTO:-0400
TZNAME:EDT
DTSTART:20160313T070000
END:DAYLIGHT
BEGIN:STANDARD
TZOFFSETFROM:-0400
TZOFFSETTO:-0500
TZNAME:EST
DTSTART:20161106T060000
END:STANDARD
BEGIN:DAYLIGHT
TZOFFSETFROM:-0500
TZOFFSETTO:-0400
TZNAME:EDT
DTSTART:20170312T070000
END:DAYLIGHT
BEGIN:STANDARD
TZOFFSETFROM:-0400
TZOFFSETTO:-0500
TZNAME:EST
DTSTART:20171105T060000
END:STANDARD
END:VTIMEZONE
BEGIN:VEVENT
DTSTART;TZID=America/New_York:20161117T083000
DTEND;TZID=America/New_York:20161117T103000
DTSTAMP:20260422T175658
CREATED:20161007T201645Z
LAST-MODIFIED:20180420T144843Z
UID:11881-1479371400-1479378600@digitalcontentnext.org
SUMMARY:Legal and Legislative Day NYC 2016
DESCRIPTION:If you are a DCN publisher member\, please be sure to log in or register to access PDFs of approved presentations.\n \n\nAt this special NYC Legal and Legislative Day we will discussed a variety of topics impacting premium publishers. Topics under included an analysis of how the 2016 elections may chang the legislative and regulatory agenda\, the current state of play of the FCC privacy rules for broadband providers\, and legal threats on the horizon for 2017. \nTo see the full agenda and speaker list click here.
URL:https://digitalcontentnext.org/event/legal-and-legislative-day-nyc-2016/
LOCATION:Hearst Corporation\, 300 West 57th Street\, 44th Floor\, East Room\, New York\, NY\, 10019\, United States
CATEGORIES:DCN Events
END:VEVENT
END:VCALENDAR