
BEGIN:VCALENDAR
VERSION:2.0
PRODID:-//Digital Content Next - ECPv5.8.1//NONSGML v1.0//EN
CALSCALE:GREGORIAN
METHOD:PUBLISH
X-WR-CALNAME:Digital Content Next
X-ORIGINAL-URL:https://digitalcontentnext.org
X-WR-CALDESC:Events for Digital Content Next
BEGIN:VTIMEZONE
TZID:America/New_York
BEGIN:DAYLIGHT
TZOFFSETFROM:-0500
TZOFFSETTO:-0400
TZNAME:EDT
DTSTART:20160313T070000
END:DAYLIGHT
BEGIN:STANDARD
TZOFFSETFROM:-0400
TZOFFSETTO:-0500
TZNAME:EST
DTSTART:20161106T060000
END:STANDARD
END:VTIMEZONE
BEGIN:VEVENT
DTSTART;TZID=America/New_York:20160523T080000
DTEND;TZID=America/New_York:20160525T170000
DTSTAMP:20210913T055546
CREATED:20160223T220616Z
LAST-MODIFIED:20160223T220616Z
UID:9233-1463990400-1464195600@digitalcontentnext.org
SUMMARY:Digiday Programmatic Summit
DESCRIPTION:
URL:http://digiday.com/event/programmatic-summit-2016-new-orleans/#new_tab
LOCATION:Ritz-Carlton New Orleans\,  921 Canal St\, New Orleans\, LA\, 70112\, United States
END:VEVENT
END:VCALENDAR