
BEGIN:VCALENDAR
VERSION:2.0
PRODID:-//Digital Content Next - ECPv6.15.18//NONSGML v1.0//EN
CALSCALE:GREGORIAN
METHOD:PUBLISH
X-WR-CALNAME:Digital Content Next
X-ORIGINAL-URL:https://digitalcontentnext.org
X-WR-CALDESC:Events for Digital Content Next
REFRESH-INTERVAL;VALUE=DURATION:PT1H
X-Robots-Tag:noindex
X-PUBLISHED-TTL:PT1H
BEGIN:VTIMEZONE
TZID:America/New_York
BEGIN:DAYLIGHT
TZOFFSETFROM:-0500
TZOFFSETTO:-0400
TZNAME:EDT
DTSTART:20140309T070000
END:DAYLIGHT
BEGIN:STANDARD
TZOFFSETFROM:-0400
TZOFFSETTO:-0500
TZNAME:EST
DTSTART:20141102T060000
END:STANDARD
BEGIN:DAYLIGHT
TZOFFSETFROM:-0500
TZOFFSETTO:-0400
TZNAME:EDT
DTSTART:20150308T070000
END:DAYLIGHT
BEGIN:STANDARD
TZOFFSETFROM:-0400
TZOFFSETTO:-0500
TZNAME:EST
DTSTART:20151101T060000
END:STANDARD
BEGIN:DAYLIGHT
TZOFFSETFROM:-0500
TZOFFSETTO:-0400
TZNAME:EDT
DTSTART:20160313T070000
END:DAYLIGHT
BEGIN:STANDARD
TZOFFSETFROM:-0400
TZOFFSETTO:-0500
TZNAME:EST
DTSTART:20161106T060000
END:STANDARD
END:VTIMEZONE
BEGIN:VEVENT
DTSTART;VALUE=DATE:20150609
DTEND;VALUE=DATE:20150610
DTSTAMP:20260422T180049
CREATED:20150506T150607Z
LAST-MODIFIED:20150706T205758Z
UID:5654-1433808000-1433894399@digitalcontentnext.org
SUMMARY:OPS Conference
DESCRIPTION:
URL:https://opsconference.com/#new_tab
LOCATION:Metropolitan Pavilion\, New York\, NY\, United States
CATEGORIES:DCN Partner Events
END:VEVENT
BEGIN:VEVENT
DTSTART;TZID=America/New_York:20150609T120000
DTEND;TZID=America/New_York:20150609T170000
DTSTAMP:20260422T180050
CREATED:20150313T141153Z
LAST-MODIFIED:20150713T175811Z
UID:4866-1433851200-1433869200@digitalcontentnext.org
SUMMARY:DCN Legal & Legislative Day 2015
DESCRIPTION:If you are a DCN publisher or supporter member\, please be sure to log in or register to view presentation videos and downloadable presentations.
URL:https://digitalcontentnext.org/event/dcn-legal-legislative-day/
LOCATION:Comcast/NBCUniversal\, 300 New Jersey Avenue\, NW\, Washington\, DC\, United States
CATEGORIES:DCN Events
END:VEVENT
END:VCALENDAR