
BEGIN:VCALENDAR
VERSION:2.0
PRODID:-//Digital Content Next - ECPv5.8.1//NONSGML v1.0//EN
CALSCALE:GREGORIAN
METHOD:PUBLISH
X-WR-CALNAME:Digital Content Next
X-ORIGINAL-URL:https://digitalcontentnext.org
X-WR-CALDESC:Events for Digital Content Next
BEGIN:VTIMEZONE
TZID:America/New_York
BEGIN:DAYLIGHT
TZOFFSETFROM:-0500
TZOFFSETTO:-0400
TZNAME:EDT
DTSTART:20150308T070000
END:DAYLIGHT
BEGIN:STANDARD
TZOFFSETFROM:-0400
TZOFFSETTO:-0500
TZNAME:EST
DTSTART:20151101T060000
END:STANDARD
END:VTIMEZONE
BEGIN:VEVENT
DTSTART;VALUE=DATE:20150325
DTEND;VALUE=DATE:20150329
DTSTAMP:20210913T060722
CREATED:20141215T225824Z
LAST-MODIFIED:20150615T161805Z
UID:3720-1427241600-1427587199@digitalcontentnext.org
SUMMARY:MediaPost Content Marketing Insider Summit
DESCRIPTION:
URL:http://www.mediapost.com/contentmarketinginsidersummit/#new_tab
LOCATION:Omni Scottsdale Resort & Spa at Montelucia\, 4949 East Lincoln Drive\, Scottsdale\, AZ\, 85253\, United States
END:VEVENT
END:VCALENDAR