
BEGIN:VCALENDAR
VERSION:2.0
PRODID:-//Digital Content Next - ECPv5.8.1//NONSGML v1.0//EN
CALSCALE:GREGORIAN
METHOD:PUBLISH
X-WR-CALNAME:Digital Content Next
X-ORIGINAL-URL:https://digitalcontentnext.org
X-WR-CALDESC:Events for Digital Content Next
BEGIN:VTIMEZONE
TZID:America/New_York
BEGIN:DAYLIGHT
TZOFFSETFROM:-0500
TZOFFSETTO:-0400
TZNAME:EDT
DTSTART:20150308T070000
END:DAYLIGHT
BEGIN:STANDARD
TZOFFSETFROM:-0400
TZOFFSETTO:-0500
TZNAME:EST
DTSTART:20151101T060000
END:STANDARD
END:VTIMEZONE
BEGIN:VEVENT
DTSTART;VALUE=DATE:20150121
DTEND;VALUE=DATE:20150124
DTSTAMP:20210913T060910
CREATED:20141107T214619Z
LAST-MODIFIED:20150706T204850Z
UID:3299-1421798400-1422057599@digitalcontentnext.org
SUMMARY:DCN Summit 2015 - Presentation Archive
DESCRIPTION:The DCN Summit  – themed Attention Economy – took place January 21-23 in Miami\, FL. As a member benefit\, DCN publisher members have access to video of speaker sessions (from speakers who gave permission). \nIf you are a DCN publisher or supporter member\, please be sure to log in or register to view presentation videos and downloadable presentations.
URL:https://digitalcontentnext.org/event/dcn-summit-2015-the-attention-economy/
CATEGORIES:DCN Events
END:VEVENT
END:VCALENDAR